Workbook

Sheet COMPOSIÇÃO DO BDI
A7: OBRA: | B7: OBRA: CONSTRUÇÃO DE UMA ESCOLA DE 12 SALAS DE AULAS E UMA QUADRA POLIVALENTE COBERTA
A8: TOMADOR: | B8: PREFEITURA MUNICIPAL DE ITAITUBA
A9: GESTOR: | B9: Valmir Climaco de Aguiar
A10: LOCAL DA OBRA: | B10: NO DISTRITO DE MORAES ALMEIDA, CIDADE DE ITAITUBA-PARÁ
A11: Cálculo do BDI Fórmula e parâmetros estabelecidos pelo Acórdão 2622/2013 - TCU - Plenário
A13: DEMONSTRATIVO BDI | F13: LIMITE RECOMENDADOS
A14: ITENS | C14: SIGLAS | D14: VALORES | F14: INFERIOR | G14: SUPERIOR
A15: ADMINISTRAÇÃO CENTRAL | C15: AC | D15: 0.04 | F15: 0.0343 | G15: 0.0671
A16: SEGURO E GARANTIA | C16: SG | D16: 0.008 | F16: 0.0028 | G16: 0.0075
A17: RISCO | C17: R | D17: 0.0097 | F17: 0.01 | G17: 0.0174
A18: DESPESAS FINANCEIRAS | C18: DF | D18: 0.0059 | F18: 0.0094 | G18: 0.0117
A19: LUCRO | C19: L | D19: 0.06 | F19: 0.0674 | G19: 0.094
A20: TAXA DE TRIBUTOS | B20: PIS (geralmente 0,65%) | C20: I | D20: 0.0065 | F20: VARIÁVEL
B21: COFINS (geralmente 3,00%) | D21: 0.03
B22: ISS (legislação municipal) | D22: 0.05
B23: CPRB (INSS) | D23: 0.045
A24: TAXA TOTAL DE IMPOSTO I | D24: =SUM(D20:D23) -> 0.1315
A26: BDI | D26: =((1+D15+D16+D17)*(1+D18)*(1+D19)/(1-D24))-1 -> 0.29853409 | F26: 0.2076 | G26: 0.3
A28: Fórmula para o cálculo do B.D.I. ( benefícios e despesas indiretas )
A29: BDI = ((1+AC+S+R+G)*(1+DF)*(1+L)/(1-I))-1

Sheet 12 SALAS - 127V_BLOCOS
A6: PROPRIETÁRIO: MUNICÍPIO DE ITAITUBA - PARÁ | E6: DATA DO ORÇAMENTO: 13/12/2021 | I6: BDI: 29,85%
A7: OBRA: CONSTRUÇÃO DE UMA ESCOLA DE 12 SALAS DE AULAS E UMA QUADRA POLIESPORTIVA COBERTA | E7: TABELA SINAPI/PA - OUT/2021 E SEDOP - SET/2021 (DESONERADOS) | H7: VALOR:
A8: LOCAL DA OBRA: NO DISTRITO DE MORAES ALMEIDA, CIDADE DE ITAITUBA-PARÁ | H8: =SUM(I415) -> 7887953.4
A10: ITEM | B10: CÓDIGO | C10: FONTE | D10: DESCRIÇÃO DOS SERVIÇOS | E10: UN. | F10: QUANT. | G10: PREÇO SEM BDI (R$) | H10: PREÇO COM BDI (R$) | I10: VALOR (R$)
A12: A | B12: CONSTRUÇÃO DA ESCOLA
A13: 1 | D13: SERVIÇOS PRELIMINARES | I13: =SUM(I14:I20) -> 74386.73
A14: 1.1 | B14: 11340 | C14: SEDOP | D14: Placa de obra em lona com plotagem de gráfica | E14: m² | F14: 12 | G14: 174.57 | H14: =G14*1.2985 -> 226.67914 | I14: =ROUND((F14*H14),2) -> 2720.15
A15: 1.2 | B15: 10000 | C15: SEDOP | D15: Licenças e taxas da obra (acima de 500m2) | E15: un | F15: 1 | G15: 12622.32 | H15: =G15*1.2985 -> 16390.083 | I15: =ROUND((F15*H15),2) -> 16390.08
A16: 1.3 | B16: 10767 | C16: SEDOP | D16: Barracão de madeira (incl. instalações) | E16: m² | F16: 12 | G16: 528.9 | H16: =G16*1.2985 -> 686.77665 | I16: =ROUND((F16*H16),2) -> 8241.32
A17: 1.4 | B17: 10005 | C17: SEDOP | D17: Barracão de madeira/Almoxarifado | E17: m² | F17: 20 | G17: 268.27 | H17: =G17*1.2985 -> 348.34859 | I17: =ROUND((F17*H17),2) -> 6966.97
A18: 1.5 | B18: 10003 | C18: SEDOP | D18: Tapume c/ chapa de madeirit e=10mm (h=2.20m) | E18: m² | F18: 165 | G18: 85.96 | H18: =G18*1.2985 -> 111.61906 | I18: =ROUND((F18*H18),2) -> 18417.14 | J18: 75X2,2 | K18: SOMENTE PARA FRENTE
A19: 1.6 | B19: 10009 | C19: SEDOP | D19: Locação da obra (execução de gabarito) | E19: m² | F19: 2929.11 | G19: 4.6 | H19: =G19*1.2985 -> 5.9731 | I19: =ROUND((F19*H19),2) -> 17495.87
A20: 1.7 | B20: 98525 | C20: SINAPI | D20: LIMPEZA MECANIZADA DE CAMADA VEGETAL, VEGETAÇÃO E PEQUENAS ÁRVORES (DIÂMETRO DE TRONCO MENOR QUE 0,20 M), COM TRATOR DE ESTEIRAS.AF_05/2018 | E20: m² | F20: 10000 | G20: 0.32 | H20: =G20*1.2985 -> 0.41552 | I20: =ROUND((F20*H20),2) -> 4155.2
A22: 2 | D22: ADMINISTRAÇÃO LOCAL DA OBRA | I22: =SUM(I23:I25) -> 331372.89 | AD22: =I415-I22 -> 7556580.5 | AE22: 1
A23: 2.1 | B23: 93565 | C23: SINAPI | D23: Engenheiro civil de obras junior com encargos complementares | E23: Mês | F23: 12 | G23: 14247.85 | H23: =G23*1.2985 -> 18500.833 | I23: =ROUND((F23*H23),2) -> 222010 | AD23: =I22 -> 331372.89 | AE23: x
A24: 2.2 | B24: 93572 | C24: SINAPI | D24: Encarregado de obras com encargos complementares | E24: Mês | F24: 12 | G24: 3234.54 | H24: =G24*1.2985 -> 4200.0502 | I24: =ROUND((F24*H24),2) -> 50400.6
A25: 2.3 | B25: 88326 | C25: SINAPI | D25: Vigia noturno com encargos compelemtares | E25: H | F25: 2112 | G25: 21.5 | H25: =G25*1.2985 -> 27.91775 | I25: =ROUND((F25*H25),2) -> 58962.29
A27: 3 | D27: MOVIMENTO DE TERRAS PARA FUNDAÇÕES | I27: =SUM(I28:I30) -> 42873.64
A28: 3.1 | B28: 93358 | C28: SINAPI | D28: ESCAVAÇÃO MANUAL DE VALA COM PROFUNDIDADE MENOR OU IGUAL A 1,30 M. AF_02/2021 | E28: m³ | F28: 373.5 | G28: 67.6 | H28: =G28*1.2985 -> 87.7786 | I28: =ROUND((F28*H28),2) -> 32785.31 | AD28: =AD23/AD22 -> 0.043852228
A29: 3.2 | B29: 101617 | C29: SINAPI | D29: PREPARO DE FUNDO DE VALA COM LARGURA MAIOR OU IGUAL A 1,5 M E MENOR QUE 2,5 M (ACERTO DO SOLO NATURAL). AF_08/2020 | E29: m² | F29: 256.2 | G29: 2.44 | H29: =G29*1.2985 -> 3.16834 | I29: =ROUND((F29*H29),2) -> 811.73
A30: 3.3 | B30: 93382 | C30: SINAPI | D30: REATERRO MANUAL DE VALAS COM COMPACTAÇÃO MECANIZADA. AF_04/2016 | E30: m³ | F30: 271.02 | G30: 26.36 | H30: =G30*1.2985 -> 34.22846 | I30: =ROUND((F30*H30),2) -> 9276.6
A32: 4 | D32: FUNDAÇÕES | I32: =SUM(I34:I36) -> 505805.96 | AJ32: =SUM(I23:I25) -> 331372.89
A33: 4.1 | D33: CONCRETO ARMADO PARA FUNDAÇÕES | I33: =SUM(I34:I36) -> 505805.96
A34: 4.1.1 | B34: 96619 | C34: SINAPI | D34: LASTRO DE CONCRETO MAGRO, APLICADO EM BLOCOS DE COROAMENTO OU SAPATAS, ESPESSURA DE 5 CM. AF_08/2017. | E34: m² | F34: ='MEMÓRIA DE CÁLCULO'!E29 -> 256.2 | G34: 28.32 | H34: =G34*1.2985 -> 36.77352 | I34: =ROUND((F34*H34),2) -> 9421.38
A35: 4.1.2 | B35: 40283 | C35: SEDOP | D35: Bloco em concreto armado p/ fundaçao (incl. forma) | E35: m³ | F35: 102.48 | G35: 2754.25 | H35: =G35*1.2985 -> 3576.3936 | I35: =ROUND((F35*H35),2) -> 366508.82
A36: 4.1.3 | B36: 40284 | C36: SEDOP | D36: Baldrame em concreto armado c/ cinta de amarração | E36: m³ | F36: ='MEMÓRIA DE CÁLCULO'!E31 -> 39.44 | G36: 2536 | H36: =G36*1.2985 -> 3292.996 | I36: =ROUND((F36*H36),2) -> 129875.76
A38: 5 | D38: SUPERESTRUTURA | I38: =SUM(I39,I41,I43,I45) -> 871076.46
A39: 5.1 | D39: CONCRETO ARMADO - VIGAS | I39: =SUM(I40) -> 427992.99
A40: 5.1.1 | B40: 50766 | C40: SEDOP | D40: Concreto armado fck=25MPA c/ forma mad. branca (incl. lançamento e adensamento) | E40: m³ | F40: ='MEMÓRIA DE CÁLCULO'!E34 -> 107.48 | G40: 3066.67 | H40: =G40*1.2985 -> 3982.071 | I40: =ROUND((F40*H40),2) -> 427992.99
A41: 5.2 | D41: CONCRETO ARMADO - LAJE | I41: =SUM(I42) -> 8427.32
A42: 5.2.1 | B42: 50713 | C42: SEDOP | D42: Laje pré-moldada (incl. capeamento) | E42: m² | F42: ='MEMÓRIA DE CÁLCULO'!E36 -> 67.45 | G42: 96.22 | H42: =G42*1.2985 -> 124.94167 | I42: =ROUND((F42*H42),2) -> 8427.32
A43: 5.3 | D43: CONCRETO ARMADO - PILARES | I43: =SUM(I44) -> 407923.35
A44: 5.3.1 | B44: 50766 | C44: SEDOP | D44: Concreto armado fck=25MPA c/ forma mad. branca (incl. lançamento e adensamento) | E44: m³ | F44: ='MEMÓRIA DE CÁLCULO'!E38 -> 102.44 | G44: 3066.67 | H44: =G44*1.2985 -> 3982.071 | I44: =ROUND((F44*H44),2) -> 407923.35
A45: 5.4 | D45: CONCRETO ARMADO - VERGAS E CONTRAVERGAS | I45: =SUM(I46) -> 26732.8
A46: 5.4.1 | B46: 93184 | C46: SINAPI | D46: VERGA PRÉ-MOLDADA PARA PORTAS COM ATÉ 1,5 M DE VÃO. AF_03/2016 | E46: m | F46: 633.85 | G46: 32.48 | H46: =G46*1.2985 -> 42.17528 | I46: =ROUND((F46*H46),2) -> 26732.8
A48: 6 | D48: SISTEMA DE VEDAÇÃO VERTICAL | I48: =SUM(I49,I51) -> 208078.23
A49: 6.1 | D49: ELEMENTOS VAZADOS | I49: =SUM(I50) -> 5639.78 | J49: (8+3). AF_11/2020
A50: 6.1.1 | B50: 101161 | C50: SINAPI | D50: ALVENARIA DE VEDAÇÃO COM ELEMENTO VAZADO DE CONCRETO (COBOGÓ) DE 7X50X50CM E ARGAMASSA DE ASSENTAMENTO COM PREPARO EM BETONEIRA. AF_05/2020 | E50: m² | F50: 24.72 | G50: 175.7 | H50: =G50*1.2985 -> 228.14645 | I50: =ROUND((F50*H50),2) -> 5639.78
A51: 6.2 | D51: ALVENARIA DE VEDAÇÃO | I51: =SUM(I52:I53) -> 202438.45
A52: 6.2.1 | B52: 87489 | C52: SINAPI | D52: ALVENARIA DE VEDAÇÃO DE BLOCOS CERÂMICOS FURADOS NA VERTICAL DE 9X19X39CM (ESPESSURA 9CM) DE PAREDES COM ÁREA LÍQUIDA MAIOR OU IGUAL A 6M² COM VÃOS E ARGAMASSA DE ASSENTAMENTO COM PREPARO EM BETONEIRA. AF_06/2014 | E52: m² | F52: ='MEMÓRIA DE CÁLCULO'!E45 -> 2087.25 | G52: 55.42 | H52: =G52*1.2985 -> 71.96287 | I52: =ROUND((F52*H52),2) -> 150204.5
...

Sheet CUSTO UNITÁRIO
A7: PROPRIETÁRIO: MUNICÍPIO DE ITAITUBA | F7: DATA DA EXPEDIÇÃO: | G7: 44543
A8: LOCAL DA OBRA: CONSTRUÇÃO DE UMA ESCOLA DE 12 SALAS DE AULAS E UMA QUADRA POLIESPORTIVA COBERTA - EM MORAES DE ALMEIDA | F8: VALOR DA OBRA
A9: TABELA SINAPI/PA - 10/2021 SEDOP 09/2021 COM DESONERAÇAO | D9: B.D.I (29,85%) | F9: 7887953.4
A11: 1.1 11340 - Placa de obra em lona com plotagem de gráfica - m²
A12: MATERIAL | C12: FONTE | D12: UNID | E12: COEFICENTE | F12: PREÇO UNITÁRIO | G12: TOTAL
A13: D00475 | B13: Lona com plotagem de gráfica | C13: SEDOP | D13: M2 | E13: 1,0000000 | F13: 97 | G13: 97
A14: D00084 | B14: Prego 1 1/2"x13 | C14: SEDOP | D14: KG | E14: 0.1 | F14: 16.39 | G14: 1.64
A15: D00281 | B15: Pernamanca 3" x 2" 4 m - madeira branca | C15: SEDOP | D15: DZ | E15: 0.41 | F15: 150 | G15: 61.5
A16: 280013 | B16: CARPINTEIRO COM ENCARGOS COMPLEMENTARES | C16: SEDOP | D16: H | E16: 0.4 | F16: 20.04 | G16: 8.02
A17: 280026 | B17: SERVENTE COM ENCARGOS COMPLEMENTARES | C17: SEDOP | D17: H | E17: 0.4 | F17: 16.02 | G17: 6.41
F18: TOTAL C/ ENCARGOS S/ BDI | G18: =SUM(G13:G17) -> 174.57
A19: 1.2 100000 -Licenças e taxas da obra (acima de 500m2)
A20: MATERIAL | C20: FONTE | D20: UNID | E20: COEFICENTE | F20: PREÇO UNITÁRIO | G20: TOTAL
A21: D00322 | B21: Ligação provisória - luz | C21: SEDOP | D21: UND | E21: 1 | F21: 204.68 | G21: =F21 -> 204.68
A22: D00323 | B22: Taxa do CREA (I) | C22: SEDOP | D22: UND | E22: 1 | F22: 967.26 | G22: =F22 -> 967.26
A23: D00321 | B23: Ligação provisoria - agua/esgoto | C23: SEDOP | D23: UND | E23: 1 | F23: 432.1 | G23: =F23 -> 432.1
A24: D00342 | B24: Taxas da PMB (I) | C24: SEDOP | D24: CJ | E24: 1 | F24: 9881.85 | G24: =F24 -> 9881.85
A25: D00343 | B25: Taxa de Incêndio | C25: SEDOP | D25: UND | E25: 1 | F25: 1136.43 | G25: =F25 -> 1136.43
F26: TOTAL C/ ENCARGOS S/ BDI | G26: =SUM(G21:G25) -> 12622.32
A27: 1.3 10767 - Barracão de madeira (incl. instalações)
A28: MATERIAL | C28: FONTE | D28: UNID | E28: COEFICENTE | F28: PREÇO UNITÁRIO | G28: TOTAL
A29: D00015 | B29: Tábua de madeira forte 4m | C29: SEDOP | D29: DZ | E29: 0.14 | F29: 160 | G29: =F29*E29 -> 22.4
A30: D00061 | B30: Fechadura de sobrepor comum | C30: SEDOP | D30: UND | E30: 0.02 | F30: 52.5 | G30: =F30*E30 -> 1.05
A31: D00001 | B31: Parafuso fo go 5/16" c= 110mm | C31: SEDOP | D31: UND | E31: 0.04 | F31: 1.43 | G31: =F31*E31 -> 0.0572
A32: D00060 | B32: Aldrava p/ cadeado (4x1/2") | C32: SEDOP | D32: UND | E32: 0.02 | F32: 6.09 | G32: =F32*E32 -> 0.1218
A33: D00344 | B33: Arruela concava em PVC d=5/16" | C33: SEDOP | D33: UND | E33: 0.5 | F33: 0.65 | G33: =F33*E33 -> 0.325
A34: D00019 | B34: Régua 3"x1" 4 m apar. | C34: SEDOP | D34: DZ | E34: 0.05 | F34: 245 | G34: =F34*E34 -> 12.25
A35: D00081 | B35: Prego 2 1/2"x10 | C35: SEDOP | D35: KG | E35: 0.5 | F35: 12.43 | G35: =F35*E35 -> 6.215
A36: D00016 | B36: Tábua de madeira branca 4m | C36: SEDOP | D36: DZ | E36: 0.38 | F36: 75 | G36: =F36*E36 -> 28.5
A37: D00281 | B37: Pernamanca 3" x 2" 4 m - madeira branca | C37: SEDOP | D37: DZ | E37: 0.17 | F37: 150 | G37: =F37*E37 -> 25.5
A38: D00062 | B38: Dobradiça 3"x3" com parafuso | C38: SEDOP | D38: UND | E38: 0.19 | F38: 14.65 | G38: =F38*E38 -> 2.7835
A39: D00002 | B39: Massa de vedação | C39: SEDOP | D39: KG | E39: 0.042 | F39: 12.5 | G39: =F39*E39 -> 0.525
A40: D00059 | B40: Cadeado No. 30 | C40: SEDOP | D40: UND | E40: 0.02 | F40: 20 | G40: =F40*E40 -> 0.4
A41: D00049 | B41: Telha fibrotex (1.22x0.55m) e=4mm | C41: SEDOP | D41: UND | E41: 0.82 | F41: 14.5 | G41: =F41*E41 -> 11.89
A42: 170081 | B42: Ponto de luz / força (c/tubul., cx. e fiaçao) ate 200W | C42: SEDOP | D42: PT | E42: 0.15 | F42: 221.14 | G42: =F42*E42 -> 33.171
A43: 180093 | B43: Caixa sifonada de PVC c/ grelha - 100x100x50mm | C43: SEDOP | D43: UND | E43: 0.125 | F43: 19.26 | G43: =F43*E43 -> 2.4075
A44: 180095 | B44: Registro de gaveta s/ canopla - 1/2" | C44: SEDOP | D44: UND | E44: 0.025 | F44: 63.6 | G44: =F44*E44 -> 1.59
A45: 180102 | B45: Tubo em PVC - 100mm (LS) | C45: SEDOP | D45: M | E45: 0.15 | F45: 36.04 | G45: =F45*E45 -> 5.406
A46: 180103 | B46: Tubo em PVC - 75mm (LS) | C46: SEDOP | D46: M | E46: 0.15 | F46: 29.76 | G46: =F46*E46 -> 4.464
A47: 180299 | B47: Ponto de agua (incl. tubos e conexoes) | C47: SEDOP | D47: PT | E47: 0.15 | F47: 449.67 | G47: =F47*E47 -> 67.4505
...

Sheet MEMÓRIA DE CÁLCULO
A6: ='12 SALAS - 127V_BLOCOS'!A6:D6 -> PROPRIETÁRIO: MUNICÍPIO DE ITAITUBA - PARÁ | F6: DATA:
A7: ='12 SALAS - 127V_BLOCOS'!A7:D7 -> OBRA: CONSTRUÇÃO DE UMA ESCOLA DE 12 SALAS DE AULAS E UMA QUADRA POLIESPORTIVA COBERTA | F7: 44543
A8: ='12 SALAS - 127V_BLOCOS'!A8:D8 -> LOCAL DA OBRA: NO DISTRITO DE MORAES ALMEIDA, CIDADE DE ITAITUBA-PARÁ
A10: ITEM | C10: DESCRIÇÃO | D10: UNIDADE | E10: QUANTIDADE | F10: CÁLCULO
A11: ='12 SALAS - 127V_BLOCOS'!A13 -> 1 | C11: ='12 SALAS - 127V_BLOCOS'!D13 -> SERVIÇOS PRELIMINARES
A12: ='12 SALAS - 127V_BLOCOS'!A14 -> 1.1 | C12: ='12 SALAS - 127V_BLOCOS'!D14 -> Placa de obra em lona com plotagem de gráfica | D12: ='12 SALAS - 127V_BLOCOS'!E14 -> m² | E12: ='12 SALAS - 127V_BLOCOS'!F14 -> 12 | F12: 3,00 X 4,00 = 12 M²
A13: ='12 SALAS - 127V_BLOCOS'!A15 -> 1.2 | C13: ='12 SALAS - 127V_BLOCOS'!D15 -> Licenças e taxas da obra (acima de 500m2) | D13: ='12 SALAS - 127V_BLOCOS'!E15 -> un | E13: ='12 SALAS - 127V_BLOCOS'!F15 -> 1 | F13: 1 UND
A14: ='12 SALAS - 127V_BLOCOS'!A16 -> 1.3 | C14: ='12 SALAS - 127V_BLOCOS'!D16 -> Barracão de madeira (incl. instalações) | D14: ='12 SALAS - 127V_BLOCOS'!E16 -> m² | E14: ='12 SALAS - 127V_BLOCOS'!F16 -> 12 | F14: 2,00 x 6,00 = 12,00 m
A15: ='12 SALAS - 127V_BLOCOS'!A17 -> 1.4 | C15: ='12 SALAS - 127V_BLOCOS'!D17 -> Barracão de madeira/Almoxarifado | D15: ='12 SALAS - 127V_BLOCOS'!E17 -> m² | E15: ='12 SALAS - 127V_BLOCOS'!F17 -> 20 | F15: 4,00 X 5,00 = 20 m²
A16: ='12 SALAS - 127V_BLOCOS'!A18 -> 1.5 | C16: ='12 SALAS - 127V_BLOCOS'!D18 -> Tapume c/ chapa de madeirit e=10mm (h=2.20m) | D16: ='12 SALAS - 127V_BLOCOS'!E18 -> m² | E16: ='12 SALAS - 127V_BLOCOS'!F18 -> 165 | F16: 75,00 X 2,20 = 165,00 m²
A17: ='12 SALAS - 127V_BLOCOS'!A19 -> 1.6 | C17: ='12 SALAS - 127V_BLOCOS'!D19 -> Locação da obra (execução de gabarito) | D17: ='12 SALAS - 127V_BLOCOS'!E19 -> m² | E17: ='12 SALAS - 127V_BLOCOS'!F19 -> 2929.11 | F17: Bloco A: 227,23 m³ Bloco B: 291,87 m³ Bloco C: 291,87 m³ Bloco D: 353,96 m³ Bloco E1: 475,20 m³ Bloco E2: 475,20 m³ Bloco F: 475,20 m³ Passarelas 338,58 m³ Total = 2.929,11 m³
A18: ='12 SALAS - 127V_BLOCOS'!A20 -> 1.7 | C18: ='12 SALAS - 127V_BLOCOS'!D20 -> LIMPEZA MECANIZADA DE CAMADA VEGETAL, VEGETAÇÃO E PEQUENAS ÁRVORES (DIÂMETRO DE TRONCO MENOR QUE 0,20 M), COM TRATOR DE ESTEIRAS.AF_05/2018 | D18: ='12 SALAS - 127V_BLOCOS'!E20 -> m² | E18: ='12 SALAS - 127V_BLOCOS'!F20 -> 10000 | F18: 100,00 x 100,00 = 1000,00 m²
A19: ='12 SALAS - 127V_BLOCOS'!A22 -> 2 | C19: ='12 SALAS - 127V_BLOCOS'!D22 -> ADMINISTRAÇÃO LOCAL DA OBRA
A20: ='12 SALAS - 127V_BLOCOS'!A23 -> 2.1 | C20: ='12 SALAS - 127V_BLOCOS'!D23 -> Engenheiro civil de obras junior com encargos complementares | D20: ='12 SALAS - 127V_BLOCOS'!E23 -> Mês | E20: ='12 SALAS - 127V_BLOCOS'!F23 -> 12 | F20: 12 MESES
A21: ='12 SALAS - 127V_BLOCOS'!A24 -> 2.2 | C21: ='12 SALAS - 127V_BLOCOS'!D24 -> Encarregado de obras com encargos complementares | D21: ='12 SALAS - 127V_BLOCOS'!E24 -> Mês | E21: ='12 SALAS - 127V_BLOCOS'!F24 -> 12 | F21: 12 MESES
A22: ='12 SALAS - 127V_BLOCOS'!A25 -> 2.3 | C22: ='12 SALAS - 127V_BLOCOS'!D25 -> Vigia noturno com encargos compelemtares | D22: ='12 SALAS - 127V_BLOCOS'!E25 -> H | E22: ='12 SALAS - 127V_BLOCOS'!F25 -> 2112 | F22: 8 HORAS P/DIA X 22 DIAS X 12 MESES = 2.112 HORAS
A23: ='12 SALAS - 127V_BLOCOS'!A27 -> 3 | C23: ='12 SALAS - 127V_BLOCOS'!D27 -> MOVIMENTO DE TERRAS PARA FUNDAÇÕES
A24: ='12 SALAS - 127V_BLOCOS'!A28 -> 3.1 | C24: ='12 SALAS - 127V_BLOCOS'!D28 -> ESCAVAÇÃO MANUAL DE VALA COM PROFUNDIDADE MENOR OU IGUAL A 1,30 M. AF_02/2021 | D24: ='12 SALAS - 127V_BLOCOS'!E28 -> m³ | E24: 373.5 | F24: Bloco A: 29 x 1,00 x 1,00 x 1,50=43,50 m³ Bloco B: 24 x 1,00 x 1,00 x 1,50 = 36,00 m³ Bloco C: 24 x 1,00 x 1,00 x 1,50 = 36,00 m³ Bloco D: 30 x 1,00 x 1,00 x 1,50 = 45,00 m³ Bloco E1: 47 x 1,00 x 1,00 x 1,50 = 70,50 m³ Bloco E2: 47 x 1,00 x 1,00 x 1,50 = 70,50 m³ Bloco F: 48 x 1,00 x 1,00 x 1,50 = 72,00 m³ Passarelas 20 x 0,60 x 0,60 x 1,50 = 2,88 m³ Total = 373,50 m³ | G24: =1*0.5*0.5*1.3 -> 0.325 | H24: =4*0.6*0.6*1.3 -> 1.872 | I24: =19*0.8*0.8*1.3 -> 15.808 | J24: =SUM(G24:I24) -> 18.005
A25: ='12 SALAS - 127V_BLOCOS'!A29 -> 3.2 | C25: ='12 SALAS - 127V_BLOCOS'!D29 -> PREPARO DE FUNDO DE VALA COM LARGURA MAIOR OU IGUAL A 1,5 M E MENOR QUE 2,5 M (ACERTO DO SOLO NATURAL). AF_08/2020 | D25: ='12 SALAS - 127V_BLOCOS'!E29 -> m² | E25: 256.2 | F25: Bloco A: 29 x 1,00 x 1,00 = 29 m² Bloco B: 24 x 1,00 x 1,00 = 24 m² Bloco C: 24 x 1,00 x 1,00 = 24 m² Bloco D: 30 x 1,00 x 1,00 = 30 m² Bloco E1: 47 x 1,00 x 1,00= 47 m² Bloco E2: 47 x 1,00 x 1,00= 47 m² Bloco F: 48 x 1,00 x 1,00 = 48 m² Passarelas 20 x 0,60 x 0,60 = 7,2 m² Total = 256,2 m² | G25: =13*0.7*0.7*1.3 -> 8.281 | H25: =3*0.8*0.8*1.3 -> 2.496
A26: ='12 SALAS - 127V_BLOCOS'!A30 -> 3.3 | C26: ='12 SALAS - 127V_BLOCOS'!D30 -> REATERRO MANUAL DE VALAS COM COMPACTAÇÃO MECANIZADA. AF_04/2016 | D26: ='12 SALAS - 127V_BLOCOS'!E30 -> m³ | E26: 271.02 | F26: Escavação - blocos = 373,5 - 102,48 = 271,02 m³
A27: ='12 SALAS - 127V_BLOCOS'!A32 -> 4 | C27: ='12 SALAS - 127V_BLOCOS'!D32 -> FUNDAÇÕES
A28: ='12 SALAS - 127V_BLOCOS'!A33 -> 4.1 | C28: ='12 SALAS - 127V_BLOCOS'!D33 -> CONCRETO ARMADO PARA FUNDAÇÕES
A29: ='12 SALAS - 127V_BLOCOS'!A34 -> 4.1.1 | C29: ='12 SALAS - 127V_BLOCOS'!D34 -> LASTRO DE CONCRETO MAGRO, APLICADO EM BLOCOS DE COROAMENTO OU SAPATAS, ESPESSURA DE 5 CM. AF_08/2017. | D29: ='12 SALAS - 127V_BLOCOS'!E34 -> m² | E29: 256.2 | F29: Bloco A: 29 x 1,00 x 1,00 = 29 m² Bloco B: 24 x 1,00 x 1,00 = 24 m² Bloco C: 24 x 1,00 x 1,00 = 24 m² Bloco D: 30 x 1,00 x 1,00 = 30 m² Bloco E1: 47 x 1,00 x 1,00= 47 m² Bloco E2: 47 x 1,00 x 1,00= 47 m² Bloco F: 48 x 1,00 x 1,00 = 48 m² Passarelas 20 x 0,60 x 0,60 = 7,2 m² Total = 256,2 m²
A30: ='12 SALAS - 127V_BLOCOS'!A35 -> 4.1.2 | C30: ='12 SALAS - 127V_BLOCOS'!D35 -> Bloco em concreto armado p/ fundaçao (incl. forma) | D30: ='12 SALAS - 127V_BLOCOS'!E35 -> m³ | E30: 102.48 | F30: Bloco A: 29 x 1,00 x 1,00 x 0,40 = 11,60 m³ Bloco B: 24 x 1,00 x 1,00 x 0,40 = 9,60 m³ Bloco C: 24 x 1,00 x 1,00 x 0,40 = 9,60 m³ Bloco D: 30 x 1,00 x 1,00 x 0,40 = 12,00 m³ Bloco E1: 47 x 1,00 x 1,00 x 0,40 = 18,80 m³ Bloco E2: 47 x 1,00 x 1,00 x 0,40 = 18,80 m³ Bloco F: 48 x 1,00 x 1,00 0,40 = 19,2 m³ Passarelas 20 x 0,60 x 0,60 0,40 = 2,88 m³ Total = 102,48 m³ | H30: =#REF! -> #REF!
A31: ='12 SALAS - 127V_BLOCOS'!A36 -> 4.1.3 | C31: ='12 SALAS - 127V_BLOCOS'!D36 -> Baldrame em concreto armado c/ cinta de amarração | D31: ='12 SALAS - 127V_BLOCOS'!E36 -> m³ | E31: 39.44 | F31: Bloco A: 129,1 x 0,13 x 0,30 = 5,03 m³ Bloco B: 105,2 x 0,13 x 0,30 = 4,10 m³ Bloco C: 108 x 0,13 x 0,30 = 4,21 m³ Bloco D: 120,29 0,13 x 0,30 = 4,69 m³ Bloco E1: 172,65 x 0,13 x 0,30 = 6,73 m³ Bloco E2: 172,65 x 0,13 x 0,30 = 6,73 m³ Bloco F: 174,88 x 0,13 x 0,30 = 6,82 m³ Base caixa d'água: 1,13 m³ Total = 39,44 m³ | H31: =#REF! -> #REF! | I31: =38.31+1.13 -> 39.44
A32: ='12 SALAS - 127V_BLOCOS'!A38 -> 5 | C32: ='12 SALAS - 127V_BLOCOS'!D38 -> SUPERESTRUTURA
A33: ='12 SALAS - 127V_BLOCOS'!A39 -> 5.1 | C33: ='12 SALAS - 127V_BLOCOS'!D39 -> CONCRETO ARMADO - VIGAS
A34: ='12 SALAS - 127V_BLOCOS'!A40 -> 5.1.1 | C34: ='12 SALAS - 127V_BLOCOS'!D40 -> Concreto armado fck=25MPA c/ forma mad. branca (incl. lançamento e adensamento) | D34: ='12 SALAS - 127V_BLOCOS'!E40 -> m³ | E34: 107.48 | F34: Bloco A: 10,92 m³ Bloco B: 11,44 m³ Bloco C: 11,98 m³ Bloco D: 8,30 m³ Bloco E1 21,61 m³ Bloco E2: 21,61 m³ Bloco F: 21,62 m³ Total = 107,48 m³
A35: ='12 SALAS - 127V_BLOCOS'!A41 -> 5.2 | C35: ='12 SALAS - 127V_BLOCOS'!D41 -> CONCRETO ARMADO - LAJE
A36: ='12 SALAS - 127V_BLOCOS'!A42 -> 5.2.1 | C36: ='12 SALAS - 127V_BLOCOS'!D42 -> Laje pré-moldada (incl. capeamento) | D36: ='12 SALAS - 127V_BLOCOS'!E42 -> m² | E36: 67.45 | F36: Cozinha, despensa, triagem, área de serviço, dml e sanitarios: 67,45 m²
A37: ='12 SALAS - 127V_BLOCOS'!A43 -> 5.3 | C37: ='12 SALAS - 127V_BLOCOS'!D43 -> CONCRETO ARMADO - PILARES
A38: ='12 SALAS - 127V_BLOCOS'!A44 -> 5.3.1 | C38: ='12 SALAS - 127V_BLOCOS'!D44 -> Concreto armado fck=25MPA c/ forma mad. branca (incl. lançamento e adensamento) | D38: ='12 SALAS - 127V_BLOCOS'!E44 -> m³ | E38: 102.44 | F38: Bloco A: 10,08 m³ Bloco B: 11,03 m³ Bloco C: 14,06 m³ Bloco D: 12,06 m³ Bloco E1 19,15 m³ Bloco E2: 19,15 m³ Bloco F: 16,91 m³ Total = 102,44 m³
A39: ='12 SALAS - 127V_BLOCOS'!A45 -> 5.4 | C39: ='12 SALAS - 127V_BLOCOS'!D45 -> CONCRETO ARMADO - VERGAS E CONTRAVERGAS
A40: ='12 SALAS - 127V_BLOCOS'!A46 -> 5.4.1 | C40: ='12 SALAS - 127V_BLOCOS'!D46 -> VERGA PRÉ-MOLDADA PARA PORTAS COM ATÉ 1,5 M DE VÃO. AF_03/2016 | D40: ='12 SALAS - 127V_BLOCOS'!E46 -> m | E40: 633.85 | F40: Janelas 566,8 m² + portas 67,05 m² | G40: 134.09 | H40: =G40/2 -> 67.045 | I40: =566.8+H40 -> 633.845
A41: ='12 SALAS - 127V_BLOCOS'!A48 -> 6 | C41: ='12 SALAS - 127V_BLOCOS'!D48 -> SISTEMA DE VEDAÇÃO VERTICAL
A42: ='12 SALAS - 127V_BLOCOS'!A49 -> 6.1 | C42: ='12 SALAS - 127V_BLOCOS'!D49 -> ELEMENTOS VAZADOS | D42: ='12 SALAS - 127V_BLOCOS'!E50 -> m² | E42: ='12 SALAS - 127V_BLOCOS'!F50 -> 24.72
A43: ='12 SALAS - 127V_BLOCOS'!A50 -> 6.1.1 | C43: ='12 SALAS - 127V_BLOCOS'!D50 -> ALVENARIA DE VEDAÇÃO COM ELEMENTO VAZADO DE CONCRETO (COBOGÓ) DE 7X50X50CM E ARGAMASSA DE ASSENTAMENTO COM PREPARO EM BETONEIRA. AF_05/2020 | D43: ='12 SALAS - 127V_BLOCOS'!E50 -> m² | E43: ='12 SALAS - 127V_BLOCOS'!F50 -> 24.72 | F43: 24,72 m²
A44: ='12 SALAS - 127V_BLOCOS'!A51 -> 6.2 | C44: ='12 SALAS - 127V_BLOCOS'!D51 -> ALVENARIA DE VEDAÇÃO
A45: ='12 SALAS - 127V_BLOCOS'!A52 -> 6.2.1 | C45: ='12 SALAS - 127V_BLOCOS'!D52 -> ALVENARIA DE VEDAÇÃO DE BLOCOS CERÂMICOS FURADOS NA VERTICAL DE 9X19X39CM (ESPESSURA 9CM) DE PAREDES COM ÁREA LÍQUIDA MAIOR OU IGUAL A 6M² COM VÃOS E ARGAMASSA DE ASSENTAMENTO COM PREPARO EM BETONEIRA. AF_06/2014 | D45: ='12 SALAS - 127V_BLOCOS'!E52 -> m² | E45: 2087.25 | F45: 695,75 x 3,00 = 2087,25 m² | G45: 136.31 | H45: 194.51 | I45: 364.95
A46: ='12 SALAS - 127V_BLOCOS'!A53 -> 6.2.2 | C46: ='12 SALAS - 127V_BLOCOS'!D53 -> Divisória em granito cinza - incl. ferrag. de fixação | D46: ='12 SALAS - 127V_BLOCOS'!E53 -> m² | E46: 69.92 | F46: Bloco E1: 13,56 x 2,00 = 27,12 m² Bloco E2: 13,56 x 2,00 = 27,12 m² Bloco F: 7,84 x 2,00 = 15,68 m²
...

Sheet CRONOGRAMA
A8: Obra: CONSTRUÇÃO DE UMA ESCOLA DE 12 SALAS DE AULAS E UMA QUADRA POLIVALENTE COBERTA.
A9: LOCAL DA OBRA: NO DISTRITO DE MORAES ALMEIDA, CIDADE DE ITAITUBA - PARÁ
A10: CRONOGRAMA DO PLANEJAMENTO
A12: ITEM | B12: DESCRIÇÃO DOS SERVIÇOS | C12: VALOR (R$) | D12: % ITEM | E12: 1 | F12: 2 | G12: 3 | H12: 4 | I12: 5 | J12: 6 | K12: 7 | L12: 8 | M12: 9 | N12: 10 | O12: 11 | P12: 12
A14: 1 | B14: SERVIÇOS PRELIMINARES | C14: =SUM(E15) -> 74386.73 | D14: =C14/$C$61 -> 0.0094304221 | E14: 1 | Q14: =SUM(E14:P14) -> 1
E15: =SUM('12 SALAS - 127V_BLOCOS'!I13) -> 74386.73 | Q15: =SUM(E15:P15) -> 74386.73
A16: 2 | B16: ADMINISTRAÇÃO LOCAL DA OBRA | C16: =SUM(E17:P17) -> 331372.89 | D16: =C16/$C$61 -> 0.042009996 | E16: 0.083333333 | F16: 0.083333333 | G16: 0.083333333 | H16: 0.083333333 | I16: 0.083333333 | J16: 0.083333333 | K16: 0.083333333 | L16: 0.083333333 | M16: 0.083333333 | N16: 0.083333333 | O16: 0.083333333 | P16: 0.083333333 | Q16: =SUM(E16:P16) -> 1
E17: ='12 SALAS - 127V_BLOCOS'!$I$22*E16 -> 27614.407 | F17: ='12 SALAS - 127V_BLOCOS'!$I$22*F16 -> 27614.407 | G17: ='12 SALAS - 127V_BLOCOS'!$I$22*G16 -> 27614.407 | H17: ='12 SALAS - 127V_BLOCOS'!$I$22*H16 -> 27614.407 | I17: ='12 SALAS - 127V_BLOCOS'!$I$22*I16 -> 27614.407 | J17: ='12 SALAS - 127V_BLOCOS'!$I$22*J16 -> 27614.407 | K17: ='12 SALAS - 127V_BLOCOS'!$I$22*K16 -> 27614.407 | L17: ='12 SALAS - 127V_BLOCOS'!$I$22*L16 -> 27614.407 | ... P17: ='12 SALAS - 127V_BLOCOS'!$I$22*P16 -> 27614.407 | Q17: =SUM(E17:P17) -> 331372.89
A18: 3 | B18: MOVIMENTO DE TERRA PARA FUNDAÇÕES | C18: =SUM(E19:F19) -> 42873.64 | D18: =C18/$C$61 -> 0.0054353313 | E18: 0.5 | F18: 0.5 | Q18: =SUM(E18:P18) -> 1
E19: ='12 SALAS - 127V_BLOCOS'!I27*50% -> 21436.82 | F19: ='12 SALAS - 127V_BLOCOS'!I27*50% -> 21436.82 | Q19: =SUM(E19:P19) -> 42873.64
A20: 4 | B20: FUNDAÇÕES | C20: =SUM(F21:H21) -> 505805.96 | D20: =C20/$C$61 -> 0.064123853 | F20: 0.4 | G20: 0.4 | H20: 0.2 | Q20: =SUM(E20:P20) -> 1
F21: ='12 SALAS - 127V_BLOCOS'!I32*40% -> 202322.38 | G21: ='12 SALAS - 127V_BLOCOS'!I32*40% -> 202322.38 | H21: ='12 SALAS - 127V_BLOCOS'!I32*20% -> 101161.19 | Q21: =SUM(E21:P21) -> 505805.96
A22: 5 | B22: SUPERESTRUTURA | C22: =SUM(F23:H23) -> 871076.46 | D22: =C22/$C$61 -> 0.11043124 | F22: 0.2 | G22: 0.4 | H22: 0.4 | Q22: =SUM(E22:P22) -> 1
F23: ='12 SALAS - 127V_BLOCOS'!I38*20% -> 174215.29 | G23: ='12 SALAS - 127V_BLOCOS'!I38*40% -> 348430.58 | H23: ='12 SALAS - 127V_BLOCOS'!I38*40% -> 348430.58 | Q23: =SUM(E23:P23) -> 871076.46
A24: 6 | B24: SISTEMAS DE VEDAÇÃO VERTICAL | C24: =SUM(H25:K25) -> 208078.23 | D24: =C24/$C$61 -> 0.026379242 | H24: 0.4 | I24: 0.3 | J24: 0.2 | K24: 0.1 | Q24: =SUM(E24:P24) -> 1
H25: ='12 SALAS - 127V_BLOCOS'!I48*40% -> 83231.292 | I25: ='12 SALAS - 127V_BLOCOS'!I48*30% -> 62423.469 | J25: ='12 SALAS - 127V_BLOCOS'!I48*20% -> 41615.646 | K25: ='12 SALAS - 127V_BLOCOS'!I48*10% -> 20807.823 | Q25: =SUM(E25:P25) -> 208078.23
A26: 7 | B26: ESQUADRIAS | C26: =SUM(I27:L27) -> 370343.9 | D26: =C26/$C$61 -> 0.046950569 | I26: 0.25 | J26: 0.25 | K26: 0.25 | L26: 0.25 | Q26: =SUM(E26:P26) -> 1
I27: ='12 SALAS - 127V_BLOCOS'!I55*25% -> 92585.975 | J27: ='12 SALAS - 127V_BLOCOS'!I55*25% -> 92585.975 | K27: ='12 SALAS - 127V_BLOCOS'!I55*25% -> 92585.975 | L27: ='12 SALAS - 127V_BLOCOS'!I55*25% -> 92585.975 | Q27: =SUM(E27:P27) -> 370343.9
A28: 8 | B28: FORRO | C28: ='12 SALAS - 127V_BLOCOS'!I83 -> 112069.56 | D28: =C28/$C$61 -> 0.014207685 | I28: 0.25 | J28: 0.25 | K28: 0.25 | L28: 0.25 | Q28: =SUM(E28:P28) -> 1
I29: ='12 SALAS - 127V_BLOCOS'!I83*25% -> 28017.39 | J29: ='12 SALAS - 127V_BLOCOS'!I83*25% -> 28017.39 | K29: ='12 SALAS - 127V_BLOCOS'!I83*25% -> 28017.39 | L29: ='12 SALAS - 127V_BLOCOS'!I83*25% -> 28017.39 | Q29: =SUM(E29:P29) -> 112069.56
A30: 9 | B30: SISTEMAS DE COBERTURA | C30: =SUM(L31:O31) -> 1490277 | D30: =C30/$C$61 -> 0.18893076 | L30: 0.2 | M30: 0.2 | N30: 0.4 | O30: 0.2 | Q30: =SUM(E30:P30) -> 1
L31: ='12 SALAS - 127V_BLOCOS'!I86*20% -> 298055.41 | M31: ='12 SALAS - 127V_BLOCOS'!I86*20% -> 298055.41 | N31: ='12 SALAS - 127V_BLOCOS'!I86*40% -> 596110.81 | O31: ='12 SALAS - 127V_BLOCOS'!I86*20% -> 298055.41 | Q31: =SUM(E31:P31) -> 1490277
A32: 10 | B32: IMPERMEABILIZAÇÃO | C32: =SUM(F33,G33,H33) -> 28998.51 | D32: =C32/$C$61 -> 0.0036763034 | F32: 0.4 | G32: 0.4 | H32: 0.2 | Q32: =SUM(E32:P32) -> 1
F33: ='12 SALAS - 127V_BLOCOS'!I92*40% -> 11599.404 | G33: ='12 SALAS - 127V_BLOCOS'!I92*40% -> 11599.404 | H33: ='12 SALAS - 127V_BLOCOS'!I92*20% -> 5799.702 | Q33: =SUM(E33:P33) -> 28998.51
A34: 11 | B34: REVESTIMENTOS INTERNOS E EXTERNOS | C34: =SUM(J35,K35,L35,M35) -> 250499.75 | D34: =C34/$C$61 -> 0.031757255 | J34: 0.25 | K34: 0.25 | L34: 0.25 | M34: 0.25 | Q34: =SUM(E34:P34) -> 1
J35: ='12 SALAS - 127V_BLOCOS'!I95*25% -> 62624.938 | K35: ='12 SALAS - 127V_BLOCOS'!I95*25% -> 62624.938 | L35: ='12 SALAS - 127V_BLOCOS'!I95*25% -> 62624.938 | M35: ='12 SALAS - 127V_BLOCOS'!I95*25% -> 62624.938 | Q35: =SUM(E35:P35) -> 250499.75
A36: 12 | B36: SISTEMAS DE PISOS | C36: =SUM(J37,K37,L37,M37) -> 895258.48 | D36: =C36/$C$61 -> 0.11349693 | J36: 0.2 | K36: 0.4 | L36: 0.2 | M36: 0.2 | Q36: =SUM(E36:P36) -> 1
J37: ='12 SALAS - 127V_BLOCOS'!I101*20% -> 179051.7 | K37: ='12 SALAS - 127V_BLOCOS'!I101*40% -> 358103.39 | L37: ='12 SALAS - 127V_BLOCOS'!I101*20% -> 179051.7 | M37: ='12 SALAS - 127V_BLOCOS'!I101*20% -> 179051.7 | Q37: =SUM(E37:P37) -> 895258.48
A38: 13 | B38: PINTURAS E ACABAMENTOS | C38: =SUM(L39,M39,N39) -> 135889.95 | D38: =C38/$C$61 -> 0.01722753 | L38: 0.2 | M38: 0.5 | N38: 0.3 | Q38: =SUM(E38:P38) -> 1
L39: ='12 SALAS - 127V_BLOCOS'!I118*20% -> 27177.99 | M39: ='12 SALAS - 127V_BLOCOS'!I118*50% -> 67944.975 | N39: ='12 SALAS - 127V_BLOCOS'!I118*30% -> 40766.985 | Q39: =SUM(E39:P39) -> 135889.95
A40: 14 | B40: INSTALAÇÕES HIDRÁULICAS | C40: =SUM(I41,J41,K41) -> 110059.69 | D40: =C40/$C$61 -> 0.013952883 | I40: 0.3 | J40: 0.3 | K40: 0.4 | Q40: =SUM(E40:P40) -> 1
I41: ='12 SALAS - 127V_BLOCOS'!I126*30% -> 33017.907 | J41: ='12 SALAS - 127V_BLOCOS'!I126*30% -> 33017.907 | K41: ='12 SALAS - 127V_BLOCOS'!I126*40% -> 44023.876 | Q41: =SUM(E41:P41) -> 110059.69
A42: 15 | B42: INSTALAÇÕES SANITÁRIAS | C42: =SUM(H43,I43,J43) -> 306159.98 | D42: =C42/$C$61 -> 0.038813614 | H42: 0.3 | I42: 0.4 | J42: 0.3 | Q42: =SUM(E42:P42) -> 1
H43: ='12 SALAS - 127V_BLOCOS'!I156*30% -> 91847.994 | I43: ='12 SALAS - 127V_BLOCOS'!I156*40% -> 122463.99 | J43: ='12 SALAS - 127V_BLOCOS'!I156*30% -> 91847.994 | Q43: =SUM(E43:P43) -> 306159.98
A44: 16 | B44: LOUÇAS, ACESSÓRIOS E METAIS | C44: =SUM(L45,M45,N45) -> 49924.27 | D44: =C44/$C$61 -> 0.0063291791 | L44: 0.1 | M44: 0.4 | N44: 0.5 | Q44: =SUM(E44:P44) -> 1
L45: ='12 SALAS - 127V_BLOCOS'!I193*10% -> 4992.427 | M45: ='12 SALAS - 127V_BLOCOS'!I193*40% -> 19969.708 | N45: ='12 SALAS - 127V_BLOCOS'!I193*50% -> 24962.135 | Q45: =SUM(E45:P45) -> 49924.27
A46: 17 | B46: INSTALAÇÃO DE GÁS COMBUSTÍVEL | C46: =SUM(G47,H47) -> 1569.19 | D46: =C46/$C$61 -> 0.000198935 | G46: 0.5 | H46: 0.5 | Q46: =SUM(E46:P46) -> 1
G47: ='12 SALAS - 127V_BLOCOS'!I218*50% -> 784.595 | H47: ='12 SALAS - 127V_BLOCOS'!I218*50% -> 784.595 | Q47: =SUM(E47:P47) -> 1569.19
A48: 18 | B48: SISTEMA DE PROTEÇÃO CONTRA INCÊNDIO | C48: =SUM(M49,N49) -> 6921.21 | D48: =C48/$C$61 -> 0.00087744053 | M48: 0.5 | N48: 0.5 | Q48: =SUM(E48:P48) -> 1
M49: ='12 SALAS - 127V_BLOCOS'!I229*50% -> 3460.605 | N49: ='12 SALAS - 127V_BLOCOS'!I229*50% -> 3460.605 | Q49: =SUM(E49:P49) -> 6921.21
...

Sheet Plan1
A1: CPU | B1: 1 | C1: CHAPA METÁLICA PLANA RESISTENTE A IMPACTOS NAS PORTAS. | D1: M² | F1: =E3*F3+E4*F4+E5*F5+E6*F6 -> 176.2902
A3: SINAPI-I | B3: 11026 | C3: CHAPA DE ACO GALVANIZADA BITOLA GSG 14, E = 1,95 MM (15,60 KG/M2) | D3: KG | E3: 15.6 | F3: 10.04
A4: SINAPI-I | B4: 5104 | C4: REBITE DE ALUMINIO VAZADO DE REPUXO, 3,2 X 8 MM (1KG = 1025 UNIDADES) | D4: KG | E4: 0.014 | F4: 65.8
A5: SINAPI | B5: 88315 | C5: SERRALHEIRO COM ENCARGOS COMPLEMENTARES | D5: H | E5: 0.5 | F5: 20.9
A6: SINAPI | B6: 88316 | C6: SERVENTE COM ENCARGOS COMPLEMENTARES | D6: H | E6: 0.5 | F6: 16.59
A8: CPU | B8: 2 | C8: CAIXA DÁGUA ENTERRADA DE CONCRETO 15.000L | D8: UN | F8: =(E10*F10+E11*F11+E12*F12+E13*F13+E14*F14+E15*F15+E16*F16+E17*F17) -> 11244.441
A10: SINAPI | B10: 5678 | C10: RETROESCAVADEIRA SOBRE RODAS COM CARREGADEIRA, TRAÇÃO 4X4, POTÊNCIA LÍ Q. 88 HP, CAÇAMBA CARREG. CAP. MÍN. 1 M3, CAÇAMBA RETRO CAP. 0,26 M3, PESO OPERACIONAL MÍN. 6.674 KG, PROFUNDIDADE ESCAVAÇÃO MÁX. 4,37 M - CHP DIURNO. AF_06/2014 | D10: CHP | E10: 103.97 | F10: 0.5
A11: SINAPI-I | B11: 43059 | C11: ACO CA-60, 4,2 MM, OU 5,0 MM, OU 6,0 MM, OU 7,0 MM, VERGALHAO | D11: KG | E11: 8.24 | F11: 11
A12: SINAPI-I | B12: 32 | C12: ACO CA-50, 6,3 MM, VERGALHAO | D12: KG | E12: 9.18 | F12: 422
A13: SINAPI | B13: 94962 | C13: CONCRETO MAGRO PARA LASTRO, TRAÇO 1:4,5:4,5 (EM MASSA SECA DE CIMENTO/AREIA MÉDIA/ BRITA 1) - PREPARO MECÂNICO COM BETONEIRA 400 L. AF_05/2021 | D13: M³ | E13: 365.98 | F13: 0.7
A14: SINAPI | B14: 94966 | C14: CONCRETO FCK = 30MPA, TRAÇO 1:2,1:2,5 (EM MASSA SECA DE CIMENTO/ AREIA MÉDIA/ BRITA 1) - PREPARO MECÂNICO COM BETONEIRA 400 L. AF_05/2021 | D14: M³ | E14: 530.91 | F14: 4.02
A15: SEDOP | B15: 50036 | C15: FORMA C/ MADEIRA BRANCA | D15: M² | E15: 89.15 | F15: 20.8
A16: SINAPI-I | B16: 43132 | C16: ARAME RECOZIDO 16 BWG, D = 1,65 MM (0,016 KG/M) OU 18 BWG, D = 1,25 MM (0,01 KG/M) | D16: KG | E16: 14.85 | F16: 5
A17: SEDOP | B17: 110645 | C17: REVESTIMENTO CERÂMICO PADRÃO ALTO | D17: M² | E17: 88.04 | F17: 33.04
